BEGIN:VCALENDAR
VERSION:2.0
PRODID:-//KZNCC - ECPv6.15.12.2//NONSGML v1.0//EN
CALSCALE:GREGORIAN
METHOD:PUBLISH
X-WR-CALNAME:KZNCC
X-ORIGINAL-URL:https://www.kzncc.org
X-WR-CALDESC:Events for KZNCC
REFRESH-INTERVAL;VALUE=DURATION:PT1H
X-Robots-Tag:noindex
X-PUBLISHED-TTL:PT1H
BEGIN:VTIMEZONE
TZID:Africa/Johannesburg
BEGIN:STANDARD
TZOFFSETFROM:+0200
TZOFFSETTO:+0200
TZNAME:SAST
DTSTART:20250101T000000
END:STANDARD
END:VTIMEZONE
BEGIN:VEVENT
DTSTART;TZID=Africa/Johannesburg:20260403T080000
DTEND;TZID=Africa/Johannesburg:20260505T170000
DTSTAMP:20260425T162221
CREATED:20260217T151743Z
LAST-MODIFIED:20260217T151743Z
UID:13850-1775203200-1778000400@www.kzncc.org
SUMMARY:Easter Weekend
DESCRIPTION:Easter Weekend
URL:https://www.kzncc.org/event/easter-weekend/
LOCATION:KZNCC Headquaters\, 50 Langalibalele St\, Pietermaritzburg\, KZN\, 3201\, South Africa
END:VEVENT
END:VCALENDAR